BEGIN:VCALENDAR
VERSION:2.0
PRODID:-//Plone.org//NONSGML plone.app.event//EN
X-WR-TIMEZONE:US/Central
BEGIN:VEVENT
SUMMARY:4th of July Crafts at the Summer Reading Program
DTSTART;TZID=US/Central:20170626T100000
DTEND;TZID=US/Central:20170626T110000
DTSTAMP:20260424T115855Z
UID:6c2a069fe1c743ab8a6bd5f86829f0f3@saas_stack_varnish:6080
CONTACT:Susan Williams\, 325-392-3565\, susan.williams@co.crockett.tx.us
CREATED:20170524T204654Z
LAST-MODIFIED:20170524T204700Z
LOCATION:Crockett County Public Library
URL:https://crockett.ploud.net/news-events/lib-cal/4th-of-july-crafts-at-t
 he-summer-reading-program
END:VEVENT
BEGIN:VTIMEZONE
TZID:US/Central
X-LIC-LOCATION:US/Central
BEGIN:DAYLIGHT
DTSTART:20170312T030000
TZNAME:CDT
TZOFFSETFROM:-0600
TZOFFSETTO:-0500
END:DAYLIGHT
END:VTIMEZONE
END:VCALENDAR
