BEGIN:VCALENDAR
VERSION:2.0
PRODID:-//Plone.org//NONSGML plone.app.event//EN
X-WR-TIMEZONE:US/Central
BEGIN:VEVENT
SUMMARY:Build a Better World - Sandy Whitley\, Doll Maker
DTSTART;TZID=US/Central:20170615T100000
DTEND;TZID=US/Central:20170615T110000
DTSTAMP:20260424T104349Z
UID:d89ab16f7dc04ea79041c104af90206a@saas_stack_varnish:6080
CONTACT:Susan Williams\, 325-392-3565\, susan.williams@co.crockett.tx.us
CREATED:20170524T201810Z
LAST-MODIFIED:20170524T201819Z
LOCATION:Crockett County Public Library
URL:https://crockett.ploud.net/news-events/lib-cal/build-a-better-world-sa
 ndy-whitley-doll-maker
END:VEVENT
BEGIN:VTIMEZONE
TZID:US/Central
X-LIC-LOCATION:US/Central
BEGIN:DAYLIGHT
DTSTART:20170312T030000
TZNAME:CDT
TZOFFSETFROM:-0600
TZOFFSETTO:-0500
END:DAYLIGHT
END:VTIMEZONE
END:VCALENDAR
