BEGIN:VCALENDAR
VERSION:2.0
PRODID:-//Plone.org//NONSGML plone.app.event//EN
X-WR-TIMEZONE:US/Central
BEGIN:VEVENT
SUMMARY:Evening on the Town
DTSTART;TZID=US/Central:20171207T180000
DTEND;TZID=US/Central:20171207T200000
DTSTAMP:20260421T103548Z
UID:cbb79b8aa3244b51818928955a5e529b@saas_stack_varnish:6080
CONTACT:Susan Williams\, 325-392-3565\, susan.williams@co.crockett.tx.us
CREATED:20171026T171820Z
LAST-MODIFIED:20171026T172055Z
LOCATION:Crockett County Public Library
URL:https://crockett.ploud.net/news-events/lib-cal/evening-on-the-town
END:VEVENT
BEGIN:VTIMEZONE
TZID:US/Central
X-LIC-LOCATION:US/Central
BEGIN:STANDARD
DTSTART:20171105T010000
TZNAME:CST
TZOFFSETFROM:-0500
TZOFFSETTO:-0600
END:STANDARD
END:VTIMEZONE
END:VCALENDAR
