BEGIN:VCALENDAR
VERSION:2.0
PRODID:-//Plone.org//NONSGML plone.app.event//EN
X-WR-TIMEZONE:US/Central
BEGIN:VEVENT
SUMMARY:Friends of the CCPL Annual Meeting
DTSTART;TZID=US/Central:20171003T183000
DTEND;TZID=US/Central:20171003T200000
DTSTAMP:20260421T122316Z
UID:137780a198874f3fbadee732160849e8@saas_stack_varnish:6080
CONTACT:Susan Williams\, 325-392-3565\, susan.williams@co.crockett.tx.us
CREATED:20170913T195244Z
LAST-MODIFIED:20170913T195312Z
LOCATION:Crockett County Public Library
URL:https://crockett.ploud.net/news-events/lib-cal/friends-of-the-ccpl-ann
 ual-meeting
END:VEVENT
BEGIN:VTIMEZONE
TZID:US/Central
X-LIC-LOCATION:US/Central
BEGIN:DAYLIGHT
DTSTART:20170312T030000
TZNAME:CDT
TZOFFSETFROM:-0600
TZOFFSETTO:-0500
END:DAYLIGHT
END:VTIMEZONE
END:VCALENDAR
