BEGIN:VCALENDAR
VERSION:2.0
PRODID:-//Plone.org//NONSGML plone.app.event//EN
X-WR-TIMEZONE:US/Central
BEGIN:VEVENT
SUMMARY:Friends of the CCPL Book Sale at the Davy Crockett Days
DTSTART;TZID=US/Central:20170826T100000
DTEND;TZID=US/Central:20170826T180000
DTSTAMP:20260419T120614Z
UID:e0e6bac6dfb74c56bce13b64ef593329@saas_stack_varnish:6080
CONTACT:Susan Williams\, 325-392-3565\, susan.williams@co.crockett.tx.us
CREATED:20170817T231342Z
LAST-MODIFIED:20170817T231443Z
LOCATION:Ozona's Historic Town Square
URL:https://crockett.ploud.net/news-events/lib-cal/friends-of-the-ccpl-boo
 k-sale-at-the-davy-crockett-days
END:VEVENT
BEGIN:VTIMEZONE
TZID:US/Central
X-LIC-LOCATION:US/Central
BEGIN:DAYLIGHT
DTSTART:20170312T030000
TZNAME:CDT
TZOFFSETFROM:-0600
TZOFFSETTO:-0500
END:DAYLIGHT
END:VTIMEZONE
END:VCALENDAR
