BEGIN:VCALENDAR
VERSION:2.0
PRODID:-//Plone.org//NONSGML plone.app.event//EN
X-WR-TIMEZONE:US/Central
BEGIN:VEVENT
SUMMARY:Harlin Public Magic Show
DTSTART;TZID=US/Central:20180607T180000
DTEND;TZID=US/Central:20180607T190000
DTSTAMP:20260424T104041Z
UID:cc84fbf007f747cca5fb4f1ae0f69985@saas_stack_varnish:6080
CONTACT:Susan Williams\, 325-392-3565\, susan.williams@co.crockett.tx.us
CREATED:20180531T000147Z
LAST-MODIFIED:20180531T000152Z
LOCATION:Crockett County Civic & Youth Center
URL:https://crockett.ploud.net/news-events/lib-cal/harlin-public-magic-sho
 w
END:VEVENT
BEGIN:VTIMEZONE
TZID:US/Central
X-LIC-LOCATION:US/Central
BEGIN:DAYLIGHT
DTSTART:20180311T030000
TZNAME:CDT
TZOFFSETFROM:-0600
TZOFFSETTO:-0500
END:DAYLIGHT
END:VTIMEZONE
END:VCALENDAR
