BEGIN:VCALENDAR
VERSION:2.0
PRODID:-//Plone.org//NONSGML plone.app.event//EN
X-WR-TIMEZONE:US/Central
BEGIN:VEVENT
SUMMARY:Library Closed
DTSTART;VALUE=DATE:20221111
DTEND;VALUE=DATE:20221112
DTSTAMP:20260424T103100Z
UID:08af3f7a6d6943048b9a134f0f9a1a68@saas_stack_varnish:6080
CONTACT:Jennifer Holmsley\, 325-392-3565\, j.holmsley@co.crockett.tx.us
CREATED:20220609T011647Z
LAST-MODIFIED:20220609T011659Z
LOCATION:Crockett County Public Library
URL:https://crockett.ploud.net/news-events/lib-cal/library-closed-6
END:VEVENT
END:VCALENDAR
