BEGIN:VCALENDAR
VERSION:2.0
PRODID:-//Plone.org//NONSGML plone.app.event//EN
X-WR-TIMEZONE:US/Central
BEGIN:VEVENT
SUMMARY:Library Closes at Noon
DTSTART;TZID=US/Central:20220701T120000
DTEND;TZID=US/Central:20220701T170000
DTSTAMP:20260424T104204Z
UID:ec7f3e6840a64ae29384f1f244156ea0@saas_stack_varnish:6080
CONTACT:Jennifer Holmsley\, 325-392-3565\, j.holmsley@co.crockett.tx.us
CREATED:20220609T013108Z
LAST-MODIFIED:20220609T013115Z
LOCATION:Crockett County Public Library
URL:https://crockett.ploud.net/news-events/lib-cal/library-closes-at-noon-
 3
END:VEVENT
BEGIN:VTIMEZONE
TZID:US/Central
X-LIC-LOCATION:US/Central
BEGIN:DAYLIGHT
DTSTART:20220313T030000
TZNAME:CDT
TZOFFSETFROM:-0600
TZOFFSETTO:-0500
END:DAYLIGHT
END:VTIMEZONE
END:VCALENDAR
