BEGIN:VCALENDAR
VERSION:2.0
PRODID:-//Plone.org//NONSGML plone.app.event//EN
X-WR-TIMEZONE:US/Central
BEGIN:VEVENT
SUMMARY:Library Closes at Noon
DTSTART;TZID=US/Central:20220902T120000
DTEND;TZID=US/Central:20220902T170000
DTSTAMP:20260421T103457Z
UID:b0ad60bac63e4a829d56bcd40046b0c5@saas_stack_varnish:6080
CONTACT:Jennifer Holmsley\, 325-392-3565\, j.holmsley@co.crockett.tx.us
CREATED:20220609T013213Z
LAST-MODIFIED:20220609T013218Z
LOCATION:Crockett County Public Library
URL:https://crockett.ploud.net/news-events/lib-cal/library-closes-at-noon-
 4
END:VEVENT
BEGIN:VTIMEZONE
TZID:US/Central
X-LIC-LOCATION:US/Central
BEGIN:DAYLIGHT
DTSTART:20220313T030000
TZNAME:CDT
TZOFFSETFROM:-0600
TZOFFSETTO:-0500
END:DAYLIGHT
END:VTIMEZONE
END:VCALENDAR
