BEGIN:VCALENDAR
VERSION:2.0
PRODID:-//Plone.org//NONSGML plone.app.event//EN
X-WR-TIMEZONE:US/Central
BEGIN:VEVENT
SUMMARY:Pictures with Santa
DTSTART;TZID=US/Central:20181206T180000
DTEND;TZID=US/Central:20181206T210000
DTSTAMP:20260424T115859Z
UID:a67fe22a7cfc4585991ce2ad63ece441@saas_stack_varnish:6080
CONTACT:Susan Williams\, 325-392-3565\, susan.williams@co.crockett.tx.us
CREATED:20181126T212729Z
LAST-MODIFIED:20181126T212809Z
LOCATION:Crockett County Public Library
URL:https://crockett.ploud.net/news-events/lib-cal/pictures-with-santa
END:VEVENT
BEGIN:VTIMEZONE
TZID:US/Central
X-LIC-LOCATION:US/Central
BEGIN:STANDARD
DTSTART:20181104T010000
TZNAME:CST
TZOFFSETFROM:-0500
TZOFFSETTO:-0600
END:STANDARD
END:VTIMEZONE
END:VCALENDAR
