BEGIN:VCALENDAR
VERSION:2.0
PRODID:-//Plone.org//NONSGML plone.app.event//EN
X-WR-TIMEZONE:US/Central
BEGIN:VEVENT
SUMMARY:Singing Zoologist at the Civic Center
DTSTART;TZID=US/Central:20190604T180000
DTEND;TZID=US/Central:20190604T190000
DTSTAMP:20260424T104232Z
UID:f270bc623c434182aa546a41f048fee9@saas_stack_varnish:6080
CONTACT:Susan Williams\, 325-392-3565\, susan.williams@co.crockett.tx.us
CREATED:20190514T213705Z
LAST-MODIFIED:20190514T214555Z
LOCATION:Crockett County Civic Center
URL:https://crockett.ploud.net/news-events/lib-cal/singing-zoologist-lucas
 -miller
END:VEVENT
BEGIN:VTIMEZONE
TZID:US/Central
X-LIC-LOCATION:US/Central
BEGIN:DAYLIGHT
DTSTART:20190310T030000
TZNAME:CDT
TZOFFSETFROM:-0600
TZOFFSETTO:-0500
END:DAYLIGHT
END:VTIMEZONE
END:VCALENDAR
