BEGIN:VCALENDAR
VERSION:2.0
PRODID:-//Plone.org//NONSGML plone.app.event//EN
X-WR-TIMEZONE:US/Central
BEGIN:VEVENT
SUMMARY:Summer Reading Program
DTSTART;TZID=US/Central:20220623T100000
DTEND;TZID=US/Central:20220623T110000
DTSTAMP:20260424T102150Z
UID:256516f2a08641e5941ae75c0729b87e@saas_stack_varnish:6080
CONTACT:Jennifer Holmsley\, 325-392-3565\, j.holmsley@co.crockett.tx.us
CREATED:20220609T013927Z
LAST-MODIFIED:20220621T180138Z
LOCATION:Ozona Elementary School Cafeteria
URL:https://crockett.ploud.net/news-events/lib-cal/summer-reading-program-
 2
END:VEVENT
BEGIN:VTIMEZONE
TZID:US/Central
X-LIC-LOCATION:US/Central
BEGIN:DAYLIGHT
DTSTART:20220313T030000
TZNAME:CDT
TZOFFSETFROM:-0600
TZOFFSETTO:-0500
END:DAYLIGHT
END:VTIMEZONE
END:VCALENDAR
