BEGIN:VCALENDAR
VERSION:2.0
PRODID:-//Plone.org//NONSGML plone.app.event//EN
X-WR-TIMEZONE:US/Central
BEGIN:VEVENT
SUMMARY:Summer Reading Program-Joe McDermott
DTSTART;TZID=US/Central:20180622T110000
DTEND;TZID=US/Central:20180622T120000
DTSTAMP:20260424T102609Z
UID:af3592a1867743bfb4031f6faae600cc@saas_stack_varnish:6080
CONTACT:Susan Williams\, 325-392-3565\, susan.williams@co.crockett.tx.us
CREATED:20180531T001215Z
LAST-MODIFIED:20180531T001220Z
LOCATION:Crockett County Public Library
URL:https://crockett.ploud.net/news-events/lib-cal/summer-reading-program-
 joe-mcdermott
END:VEVENT
BEGIN:VTIMEZONE
TZID:US/Central
X-LIC-LOCATION:US/Central
BEGIN:DAYLIGHT
DTSTART:20180311T030000
TZNAME:CDT
TZOFFSETFROM:-0600
TZOFFSETTO:-0500
END:DAYLIGHT
END:VTIMEZONE
END:VCALENDAR
