BEGIN:VCALENDAR
VERSION:2.0
PRODID:-//Plone.org//NONSGML plone.app.event//EN
X-WR-TIMEZONE:US/Central
BEGIN:VEVENT
SUMMARY:Turn in Reading Logs/Bingo Cards for Summer Reading Program
DTSTART;VALUE=DATE:20220801
DTEND;VALUE=DATE:20220802
DTSTAMP:20260424T104441Z
UID:9945d2f262f34f38a7b7b5fe4c0fbdd9@saas_stack_varnish:6080
CONTACT:Jennifer Holmsley\, 325-392-3565\, j.holmsley@co.crockett.tx.us
CREATED:20220609T014452Z
LAST-MODIFIED:20220609T014458Z
LOCATION:Crockett County Public Library
URL:https://crockett.ploud.net/news-events/lib-cal/turn-in-reading-logs-bi
 ngo-cards-for-summer-reading-program
END:VEVENT
END:VCALENDAR
