BEGIN:VCALENDAR
VERSION:2.0
PRODID:-//Plone.org//NONSGML plone.app.event//EN
X-WR-TIMEZONE:US/Central
BEGIN:VEVENT
SUMMARY:Zoofari at the Civic Center
DTSTART;TZID=US/Central:20190618T180000
DTEND;TZID=US/Central:20190618T190000
DTSTAMP:20260424T104527Z
UID:5fe6573984d946708b05b10a67c2f4b1@saas_stack_varnish:6080
CONTACT:Susan Williams\, 325-392-3565\, susan.williams@co.crockett.tx.us
CREATED:20190514T214252Z
LAST-MODIFIED:20190514T214302Z
LOCATION:Crockett County Civic Center
URL:https://crockett.ploud.net/news-events/lib-cal/zoofari-at-the-civic-ce
 nter
END:VEVENT
BEGIN:VTIMEZONE
TZID:US/Central
X-LIC-LOCATION:US/Central
BEGIN:DAYLIGHT
DTSTART:20190310T030000
TZNAME:CDT
TZOFFSETFROM:-0600
TZOFFSETTO:-0500
END:DAYLIGHT
END:VTIMEZONE
END:VCALENDAR
